BEGIN:VCALENDAR
VERSION:2.0
PRODID:-//LetsGoKids - ECPv6.15.13.1//NONSGML v1.0//EN
CALSCALE:GREGORIAN
METHOD:PUBLISH
X-ORIGINAL-URL:https://letsgokids.co.nz
X-WR-CALDESC:Events for LetsGoKids
REFRESH-INTERVAL;VALUE=DURATION:PT1H
X-Robots-Tag:noindex
X-PUBLISHED-TTL:PT1H
BEGIN:VTIMEZONE
TZID:Pacific/Auckland
BEGIN:STANDARD
TZOFFSETFROM:+1300
TZOFFSETTO:+1200
TZNAME:NZST
DTSTART:20240406T140000
END:STANDARD
BEGIN:DAYLIGHT
TZOFFSETFROM:+1200
TZOFFSETTO:+1300
TZNAME:NZDT
DTSTART:20240928T140000
END:DAYLIGHT
BEGIN:STANDARD
TZOFFSETFROM:+1300
TZOFFSETTO:+1200
TZNAME:NZST
DTSTART:20250405T140000
END:STANDARD
BEGIN:DAYLIGHT
TZOFFSETFROM:+1200
TZOFFSETTO:+1300
TZNAME:NZDT
DTSTART:20250927T140000
END:DAYLIGHT
BEGIN:STANDARD
TZOFFSETFROM:+1300
TZOFFSETTO:+1200
TZNAME:NZST
DTSTART:20260404T140000
END:STANDARD
BEGIN:DAYLIGHT
TZOFFSETFROM:+1200
TZOFFSETTO:+1300
TZNAME:NZDT
DTSTART:20260926T140000
END:DAYLIGHT
END:VTIMEZONE
BEGIN:VEVENT
DTSTART;TZID=Pacific/Auckland:20250929T131500
DTEND;TZID=Pacific/Auckland:20251006T143000
DTSTAMP:20260424T084011
CREATED:20250923T192213Z
LAST-MODIFIED:20250923T192311Z
UID:10685-1759151700-1759761000@letsgokids.co.nz
SUMMARY:Cinderella
DESCRIPTION:With a wicked stepmother (Eleanor Audley) and two jealous stepsisters (Rhoda Williams\, Lucille Bliss) who keep her enslaved and in rags\, Cinderella (Ilene Woods) stands no chance of attending the royal ball. When her fairy godmother (Verna Felton) appears and magically transforms her reality into a dream come true\, Cinderella enchants the handsome Prince Charming at the ball\, but must face the wrath of her enraged stepmother and sisters when the spell wears off at midnight. \nRated G \n \nThis event is part of the September School Holiday Fun happening at The Arts Centre September 20 – October 5 2025 \nPricing \n\nGeneral Admission $12.50
URL:https://letsgokids.co.nz/event/cinderella/
LOCATION:Lumiere Cinemas\, 26 Rolleston Avenue\,\, Central City\, Christchurch\, 8013\, New Zealand
CATEGORIES:Christchurch
ATTACH;FMTTYPE=image/jpeg:https://letsgokids.co.nz/wp-content/uploads/2025/09/images-10.jpeg
ORGANIZER;CN="The Arts Centre Te Matatiki Toi Ora":MAILTO:info@artscentre.org.nz
END:VEVENT
END:VCALENDAR