BEGIN:VCALENDAR
VERSION:2.0
PRODID:-//LetsGoKids - ECPv6.15.13.1//NONSGML v1.0//EN
CALSCALE:GREGORIAN
METHOD:PUBLISH
X-ORIGINAL-URL:https://letsgokids.co.nz
X-WR-CALDESC:Events for LetsGoKids
REFRESH-INTERVAL;VALUE=DURATION:PT1H
X-Robots-Tag:noindex
X-PUBLISHED-TTL:PT1H
BEGIN:VTIMEZONE
TZID:UTC
BEGIN:STANDARD
TZOFFSETFROM:+0000
TZOFFSETTO:+0000
TZNAME:UTC
DTSTART:20250101T000000
END:STANDARD
END:VTIMEZONE
BEGIN:VEVENT
DTSTART;TZID=UTC:20260517T130000
DTEND;TZID=UTC:20260517T160000
DTSTAMP:20260425T232626
CREATED:20260425T103912Z
LAST-MODIFIED:20260425T103912Z
UID:11796-1779022800-1779033600@letsgokids.co.nz
SUMMARY:YouthFest 2026
DESCRIPTION:YouthFest 2026 – the ultimate celebration of young people’s talents\, and creativity! \nTaking place on Sunday 17 May\, YouthFest proudly kicks off Youth Week 2026\, embracing this year’s theme: Our Voices Matter – We Deserve to Be Heard | Taringa whakarongo! Ki te reo o ngā taiohi! \nDesigned by young people\, for the community\, YouthFest is all about creating a vibrant\, inclusive space where rangatahi can express themselves\, share their ideas\, and be truly heard. \nFrom live performances and creative showcases to interactive activities\, youth-led stalls\, and community connections\, this festival puts youth voice front and centre. \nYouthFest is your stage\, your platform\, and your moment. Come along with your friends\, whānau\, and wider community to celebrate youth leadership\, creativity\, and connection – because our voices matter\, and when young people are heard\, everyone benefits.
URL:https://letsgokids.co.nz/event/youthfest-2026/
LOCATION:Waterfront Green\, The Strand\, Tauranga\, Tauranga\, 3110\, New Zealand
CATEGORIES:Mount Maunganui & Tauranga
ATTACH;FMTTYPE=image/jpeg:https://letsgokids.co.nz/wp-content/uploads/2026/04/pzgs4jsz.jpg
ORGANIZER;CN="Tauranga City":MAILTO:info@tauranga.govt.nz
END:VEVENT
END:VCALENDAR