BEGIN:VCALENDAR
VERSION:2.0
PRODID:-//LetsGoKids - ECPv6.15.13.1//NONSGML v1.0//EN
CALSCALE:GREGORIAN
METHOD:PUBLISH
X-WR-CALNAME:LetsGoKids
X-ORIGINAL-URL:https://letsgokids.co.nz
X-WR-CALDESC:Events for LetsGoKids
REFRESH-INTERVAL;VALUE=DURATION:PT1H
X-Robots-Tag:noindex
X-PUBLISHED-TTL:PT1H
BEGIN:VTIMEZONE
TZID:UTC
BEGIN:STANDARD
TZOFFSETFROM:+0000
TZOFFSETTO:+0000
TZNAME:UTC
DTSTART:20240101T000000
END:STANDARD
END:VTIMEZONE
BEGIN:VEVENT
DTSTART;TZID=UTC:20251219T203000
DTEND;TZID=UTC:20251231T233000
DTSTAMP:20260424T073715
CREATED:20251218T094540Z
LAST-MODIFIED:20251218T094540Z
UID:11363-1766176200-1767223800@letsgokids.co.nz
SUMMARY:NotEnoughLights Christmas Light show
DESCRIPTION:500\,000+ colourful lights decorating a residential property and 99.99% of the front yard\nDancing lights flash in time with the music with lots of patterns and colours. \nThe best place to park is around Kathleen Crescent or along Parker Street and take a short 3 minute walk around to the display as we want to limit the amount of traffic in the street for the safety of all the visitors. \nMost fine weather nights we should have a Real Fruit Ice-cream vendor for those who love ice-cream to enjoy while watching the lights. \nEntry is free with the choice of making a donation should you wish\, with 50% of the donation proceeds going to the Christchurch SPCA
URL:https://letsgokids.co.nz/event/notenoughlights-christmas-light-show/
LOCATION:Notenoughlights Light Show\, 8 Dunluce Place\, Christchurch\, New Zealand
CATEGORIES:Christchurch
ATTACH;FMTTYPE=image/jpeg:https://letsgokids.co.nz/wp-content/uploads/2025/12/2145727-915588-35-1.jpg
END:VEVENT
END:VCALENDAR