BEGIN:VCALENDAR
VERSION:2.0
PRODID:-//LetsGoKids - ECPv6.15.13.1//NONSGML v1.0//EN
CALSCALE:GREGORIAN
METHOD:PUBLISH
X-WR-CALNAME:LetsGoKids
X-ORIGINAL-URL:https://letsgokids.co.nz
X-WR-CALDESC:Events for LetsGoKids
REFRESH-INTERVAL;VALUE=DURATION:PT1H
X-Robots-Tag:noindex
X-PUBLISHED-TTL:PT1H
BEGIN:VTIMEZONE
TZID:UTC
BEGIN:STANDARD
TZOFFSETFROM:+0000
TZOFFSETTO:+0000
TZNAME:UTC
DTSTART:20250101T000000
END:STANDARD
END:VTIMEZONE
BEGIN:VEVENT
DTSTART;TZID=UTC:20260227T160000
DTEND;TZID=UTC:20260227T180000
DTSTAMP:20260424T045024
CREATED:20260221T032334Z
LAST-MODIFIED:20260221T032334Z
UID:11602-1772208000-1772215200@letsgokids.co.nz
SUMMARY:Fun Fridays at Hanmer Springs Thermal Pools & Spa
DESCRIPTION:Come join us as we enjoy the last of the summer sun! \nKick off your weekend the best way possible with Fun Fridays at Hanmer Springs Thermal Pools & Spa! \nEvery Friday afternoon in February come along and splash into the fun from 4 pm to 6 pm. Great music and fun inflatable pool toys in the lap pool to have a great family afternoon. It’s the perfect mix of fun and unwind — float\, soak\, laugh with friends\, and enjoy the buzz of summer evenings.
URL:https://letsgokids.co.nz/event/fun-fridays-at-hanmer-springs-thermal-pools-spa/
LOCATION:Hanmer Springs Thermal Pools & Spa\, 42 Amuri Ave\, Hanmer Springs\, New Zealand
CATEGORIES:Christchurch
ATTACH;FMTTYPE=image/jpeg:https://letsgokids.co.nz/wp-content/uploads/2026/02/Hanmer-Springs-Pool-Shoot-Website-57.jpg
ORGANIZER;CN="Hanmer Springs Thermal Pools & Spa":MAILTO:info@hanmersprings.co.nz
END:VEVENT
BEGIN:VEVENT
DTSTART;TZID=UTC:20260228T170000
DTEND;TZID=UTC:20260228T200000
DTSTAMP:20260424T045024
CREATED:20260221T032731Z
LAST-MODIFIED:20260221T032731Z
UID:11607-1772298000-1772308800@letsgokids.co.nz
SUMMARY:End of Summer Party at Hanmer Springs Thermal Pools & Spa
DESCRIPTION:Come join us as we enjoy the last of the summer sun! \nSend summer off in style at our End of Summer Party! This one-off celebration on February 28th turns up the energy with poolside fun\, inflatables\, and live music playing into the evening. \nSplash and play with the inflatables in the lap pool between 4pm-6pm and enjoy the LIVE music from Extractor Fan (Marty and Grant) on the Café Deck between 5pm – 8pm! The Café will be open until 8pm (Kitchen closing at 7:30pm). \nSoak under the stars to great tunes\, and make the most of those last warm nights with friends and whānau. It’s the ultimate summer send-off.
URL:https://letsgokids.co.nz/event/end-of-summer-party-at-hanmer-springs-thermal-pools-spa/
LOCATION:Hanmer Springs Thermal Pools & Spa\, 42 Amuri Ave\, Hanmer Springs\, New Zealand
CATEGORIES:Christchurch
ATTACH;FMTTYPE=image/jpeg:https://letsgokids.co.nz/wp-content/uploads/2026/02/Hanmer-Springs-Pool-Shoot-Website-140.jpg
ORGANIZER;CN="Hanmer Springs Thermal Pools & Spa":MAILTO:info@hanmersprings.co.nz
END:VEVENT
END:VCALENDAR